BEGIN:VCALENDAR
VERSION:2.0
PRODID:-//Lambeth Horticultural Society - ECPv6.15.20//NONSGML v1.0//EN
CALSCALE:GREGORIAN
METHOD:PUBLISH
X-WR-CALNAME:Lambeth Horticultural Society
X-ORIGINAL-URL:https://www.lambethhorticulturalsociety.org.uk
X-WR-CALDESC:Events for Lambeth Horticultural Society
REFRESH-INTERVAL;VALUE=DURATION:PT1H
X-Robots-Tag:noindex
X-PUBLISHED-TTL:PT1H
BEGIN:VTIMEZONE
TZID:Europe/London
BEGIN:DAYLIGHT
TZOFFSETFROM:+0000
TZOFFSETTO:+0100
TZNAME:BST
DTSTART:20240331T010000
END:DAYLIGHT
BEGIN:STANDARD
TZOFFSETFROM:+0100
TZOFFSETTO:+0000
TZNAME:GMT
DTSTART:20241027T010000
END:STANDARD
BEGIN:DAYLIGHT
TZOFFSETFROM:+0000
TZOFFSETTO:+0100
TZNAME:BST
DTSTART:20250330T010000
END:DAYLIGHT
BEGIN:STANDARD
TZOFFSETFROM:+0100
TZOFFSETTO:+0000
TZNAME:GMT
DTSTART:20251026T010000
END:STANDARD
BEGIN:DAYLIGHT
TZOFFSETFROM:+0000
TZOFFSETTO:+0100
TZNAME:BST
DTSTART:20260329T010000
END:DAYLIGHT
BEGIN:STANDARD
TZOFFSETFROM:+0100
TZOFFSETTO:+0000
TZNAME:GMT
DTSTART:20261025T010000
END:STANDARD
END:VTIMEZONE
BEGIN:VEVENT
DTSTART;TZID=Europe/London:20251101T140000
DTEND;TZID=Europe/London:20251101T163000
DTSTAMP:20260425T033317
CREATED:20230512T142057Z
LAST-MODIFIED:20250910T161517Z
UID:1757-1762005600-1762014600@www.lambethhorticulturalsociety.org.uk
SUMMARY:Hut Open
DESCRIPTION:Advice: Free advice from local experts. Volunteers are on hand to try to anwer your gardening queries\, from houseplants to allotments. From right plant right place to creating a new garden\, improving yield and wildlife-friendly horticultural practices. \nShop: Our shop has a huge range of garden and horticultural supplies\, bedding plants in the Spring and bulbs in Spring and Autumn plus top quality seeds\, tools and equipment\, compost\, horticultural sand\, grit and gravel\, and floral art material. You may also find patio plants\, vegetables\, roses\, tender perennials and annuals. There are always plenty of flower and vegetable seeds\, hanging basket materials\, containers\, tools – everything you need to keep up the momentum of the gardening year. Flower arranging materials are also on sale. \nBecause the Hut is run by volunteers\, commercial prices are heavily discounted. All profits are ploughed back into the Society. \nYou can pay by cash or card. \nLearn: The Hut also has a library of gardening books which members can borrow.
URL:https://www.lambethhorticulturalsociety.org.uk/event/hut-open-20/
LOCATION:The Hut\, Cedar Tree Grove\, London\, SE27 0QE
CATEGORIES:Hut - Trading Shop
ORGANIZER;CN="Hut Team":MAILTO:hut@lambethhorticulturalsociety.org.uk
END:VEVENT
BEGIN:VEVENT
DTSTART;TZID=Europe/London:20251102T100000
DTEND;TZID=Europe/London:20251102T123000
DTSTAMP:20260425T033317
CREATED:20230512T142210Z
LAST-MODIFIED:20250910T161626Z
UID:1767-1762077600-1762086600@www.lambethhorticulturalsociety.org.uk
SUMMARY:Hut Open
DESCRIPTION:Advice: Free advice from local experts. Volunteers are on hand to try to anwer your gardening queries\, from houseplants to allotments. From right plant right place to creating a new garden\, improving yield and wildlife-friendly horticultural practices. \nShop: Our shop has a huge range of garden and horticultural supplies\, bedding plants in the Spring and bulbs in Spring and Autumn plus top quality seeds\, tools and equipment\, compost\, horticultural sand\, grit and gravel\, and floral art material. You may also find patio plants\, vegetables\, roses\, tender perennials and annuals. There are always plenty of flower and vegetable seeds\, hanging basket materials\, containers\, tools – everything you need to keep up the momentum of the gardening year. Flower arranging materials are also on sale. \nBecause the Hut is run by volunteers\, commercial prices are heavily discounted. All profits are ploughed back into the Society. \nYou can pay by cash or card. \nLearn: The Hut also has a library of gardening books which members can borrow.
URL:https://www.lambethhorticulturalsociety.org.uk/event/hut-open-30/
LOCATION:The Hut\, Cedar Tree Grove\, London\, SE27 0QE
CATEGORIES:Hut - Trading Shop
ORGANIZER;CN="Hut Team":MAILTO:hut@lambethhorticulturalsociety.org.uk
END:VEVENT
BEGIN:VEVENT
DTSTART;TZID=Europe/London:20251108T140000
DTEND;TZID=Europe/London:20251108T163000
DTSTAMP:20260425T033317
CREATED:20230512T142112Z
LAST-MODIFIED:20250910T161742Z
UID:1758-1762610400-1762619400@www.lambethhorticulturalsociety.org.uk
SUMMARY:Hut Open
DESCRIPTION:Advice: Free advice from local experts. Volunteers are on hand to try to anwer your gardening queries\, from houseplants to allotments. From right plant right place to creating a new garden\, improving yield and wildlife-friendly horticultural practices. \nShop: Our shop has a huge range of garden and horticultural supplies\, bedding plants in the Spring and bulbs in Spring and Autumn plus top quality seeds\, tools and equipment\, compost\, horticultural sand\, grit and gravel\, and floral art material. You may also find patio plants\, vegetables\, roses\, tender perennials and annuals. There are always plenty of flower and vegetable seeds\, hanging basket materials\, containers\, tools – everything you need to keep up the momentum of the gardening year. Flower arranging materials are also on sale. \nBecause the Hut is run by volunteers\, commercial prices are heavily discounted. All profits are ploughed back into the Society. \nYou can pay by cash or card. \nLearn: The Hut also has a library of gardening books which members can borrow.
URL:https://www.lambethhorticulturalsociety.org.uk/event/hut-open-21/
LOCATION:The Hut\, Cedar Tree Grove\, London\, SE27 0QE
CATEGORIES:Members
ORGANIZER;CN="Hut Team":MAILTO:hut@lambethhorticulturalsociety.org.uk
END:VEVENT
BEGIN:VEVENT
DTSTART;TZID=Europe/London:20251109T100000
DTEND;TZID=Europe/London:20251109T123000
DTSTAMP:20260425T033317
CREATED:20230512T162332Z
LAST-MODIFIED:20250910T161855Z
UID:1840-1762682400-1762691400@www.lambethhorticulturalsociety.org.uk
SUMMARY:Hut Open
DESCRIPTION:Advice: Free advice from local experts. Volunteers are on hand to try to anwer your gardening queries\, from houseplants to allotments. From right plant right place to creating a new garden\, improving yield and wildlife-friendly horticultural practices. \nShop: Our shop has a huge range of garden and horticultural supplies\, bedding plants in the Spring and bulbs in Spring and Autumn plus top quality seeds\, tools and equipment\, compost\, horticultural sand\, grit and gravel\, and floral art material. You may also find patio plants\, vegetables\, roses\, tender perennials and annuals. There are always plenty of flower and vegetable seeds\, hanging basket materials\, containers\, tools – everything you need to keep up the momentum of the gardening year. Flower arranging materials are also on sale. \nBecause the Hut is run by volunteers\, commercial prices are heavily discounted. All profits are ploughed back into the Society. \nYou can pay by cash or card. \nLearn: The Hut also has a library of gardening books which members can borrow.
URL:https://www.lambethhorticulturalsociety.org.uk/event/hut-open-58/
LOCATION:The Hut\, Cedar Tree Grove\, London\, SE27 0QE
CATEGORIES:Hut - Trading Shop
ORGANIZER;CN="Hut Team":MAILTO:hut@lambethhorticulturalsociety.org.uk
END:VEVENT
BEGIN:VEVENT
DTSTART;TZID=Europe/London:20251115T140000
DTEND;TZID=Europe/London:20251115T163000
DTSTAMP:20260425T033317
CREATED:20230512T162421Z
LAST-MODIFIED:20250910T162458Z
UID:1842-1763215200-1763224200@www.lambethhorticulturalsociety.org.uk
SUMMARY:Hut Open
DESCRIPTION:Advice: Free advice from local experts. Volunteers are on hand to try to anwer your gardening queries\, from houseplants to allotments. From right plant right place to creating a new garden\, improving yield and wildlife-friendly horticultural practices. \nShop: Our shop has a huge range of garden and horticultural supplies\, bedding plants in the Spring and bulbs in Spring and Autumn plus top quality seeds\, tools and equipment\, compost\, horticultural sand\, grit and gravel\, and floral art material. You may also find patio plants\, vegetables\, roses\, tender perennials and annuals. There are always plenty of flower and vegetable seeds\, hanging basket materials\, containers\, tools – everything you need to keep up the momentum of the gardening year. Flower arranging materials are also on sale. \nBecause the Hut is run by volunteers\, commercial prices are heavily discounted. All profits are ploughed back into the Society. \nYou can pay by cash or card. \nLearn: The Hut also has a library of gardening books which members can borrow.
URL:https://www.lambethhorticulturalsociety.org.uk/event/hut-open-59/
LOCATION:The Hut\, Cedar Tree Grove\, London\, SE27 0QE
CATEGORIES:Hut - Trading Shop
ORGANIZER;CN="Hut Team":MAILTO:hut@lambethhorticulturalsociety.org.uk
END:VEVENT
BEGIN:VEVENT
DTSTART;TZID=Europe/London:20251116T100000
DTEND;TZID=Europe/London:20251116T123000
DTSTAMP:20260425T033317
CREATED:20230512T162504Z
LAST-MODIFIED:20250910T162615Z
UID:1844-1763287200-1763296200@www.lambethhorticulturalsociety.org.uk
SUMMARY:Hut Open
DESCRIPTION:Advice: Free advice from local experts. Volunteers are on hand to try to anwer your gardening queries\, from houseplants to allotments. From right plant right place to creating a new garden\, improving yield and wildlife-friendly horticultural practices. \nShop: Our shop has a huge range of garden and horticultural supplies\, bedding plants in the Spring and bulbs in Spring and Autumn plus top quality seeds\, tools and equipment\, compost\, horticultural sand\, grit and gravel\, and floral art material. You may also find patio plants\, vegetables\, roses\, tender perennials and annuals. There are always plenty of flower and vegetable seeds\, hanging basket materials\, containers\, tools – everything you need to keep up the momentum of the gardening year. Flower arranging materials are also on sale. \nBecause the Hut is run by volunteers\, commercial prices are heavily discounted. All profits are ploughed back into the Society. \nYou can pay by cash or card. \nLearn: The Hut also has a library of gardening books which members can borrow.
URL:https://www.lambethhorticulturalsociety.org.uk/event/hut-open-60/
LOCATION:The Hut\, Cedar Tree Grove\, London\, SE27 0QE
CATEGORIES:Hut - Trading Shop
ORGANIZER;CN="Hut Team":MAILTO:hut@lambethhorticulturalsociety.org.uk
END:VEVENT
BEGIN:VEVENT
DTSTART;TZID=Europe/London:20251122T140000
DTEND;TZID=Europe/London:20251122T163000
DTSTAMP:20260425T033317
CREATED:20230512T162601Z
LAST-MODIFIED:20250910T162729Z
UID:1846-1763820000-1763829000@www.lambethhorticulturalsociety.org.uk
SUMMARY:Hut Open
DESCRIPTION:Advice: Free advice from local experts. Volunteers are on hand to try to anwer your gardening queries\, from houseplants to allotments. From right plant right place to creating a new garden\, improving yield and wildlife-friendly horticultural practices. \nShop: Our shop has a huge range of garden and horticultural supplies\, bedding plants in the Spring and bulbs in Spring and Autumn plus top quality seeds\, tools and equipment\, compost\, horticultural sand\, grit and gravel\, and floral art material. You may also find patio plants\, vegetables\, roses\, tender perennials and annuals. There are always plenty of flower and vegetable seeds\, hanging basket materials\, containers\, tools – everything you need to keep up the momentum of the gardening year. Flower arranging materials are also on sale. \nBecause the Hut is run by volunteers\, commercial prices are heavily discounted. All profits are ploughed back into the Society. \nYou can pay by cash or card. \nLearn: The Hut also has a library of gardening books which members can borrow.
URL:https://www.lambethhorticulturalsociety.org.uk/event/hut-open-61/
LOCATION:The Hut\, Cedar Tree Grove\, London\, SE27 0QE
CATEGORIES:Hut - Trading Shop
ORGANIZER;CN="Hut Team":MAILTO:hut@lambethhorticulturalsociety.org.uk
END:VEVENT
BEGIN:VEVENT
DTSTART;TZID=Europe/London:20251123T100000
DTEND;TZID=Europe/London:20251123T123000
DTSTAMP:20260425T033317
CREATED:20230512T162645Z
LAST-MODIFIED:20250910T162842Z
UID:1848-1763892000-1763901000@www.lambethhorticulturalsociety.org.uk
SUMMARY:Hut Open
DESCRIPTION:Advice: Free advice from local experts. Volunteers are on hand to try to anwer your gardening queries\, from houseplants to allotments. From right plant right place to creating a new garden\, improving yield and wildlife-friendly horticultural practices. \nShop: Our shop has a huge range of garden and horticultural supplies\, bedding plants in the Spring and bulbs in Spring and Autumn plus top quality seeds\, tools and equipment\, compost\, horticultural sand\, grit and gravel\, and floral art material. You may also find patio plants\, vegetables\, roses\, tender perennials and annuals. There are always plenty of flower and vegetable seeds\, hanging basket materials\, containers\, tools – everything you need to keep up the momentum of the gardening year. Flower arranging materials are also on sale. \nBecause the Hut is run by volunteers\, commercial prices are heavily discounted. All profits are ploughed back into the Society. \nYou can pay by cash or card. \nLearn: The Hut also has a library of gardening books which members can borrow.
URL:https://www.lambethhorticulturalsociety.org.uk/event/hut-open-62/
LOCATION:The Hut\, Cedar Tree Grove\, London\, SE27 0QE
CATEGORIES:Hut - Trading Shop
ORGANIZER;CN="Hut Team":MAILTO:hut@lambethhorticulturalsociety.org.uk
END:VEVENT
BEGIN:VEVENT
DTSTART;TZID=Europe/London:20251129T140000
DTEND;TZID=Europe/London:20251129T163000
DTSTAMP:20260425T033317
CREATED:20230512T142112Z
LAST-MODIFIED:20250910T162957Z
UID:1759-1764424800-1764433800@www.lambethhorticulturalsociety.org.uk
SUMMARY:Hut Open
DESCRIPTION:Advice: Free advice from local experts. Volunteers are on hand to try to anwer your gardening queries\, from houseplants to allotments. From right plant right place to creating a new garden\, improving yield and wildlife-friendly horticultural practices. \nShop: Our shop has a huge range of garden and horticultural supplies\, bedding plants in the Spring and bulbs in Spring and Autumn plus top quality seeds\, tools and equipment\, compost\, horticultural sand\, grit and gravel\, and floral art material. You may also find patio plants\, vegetables\, roses\, tender perennials and annuals. There are always plenty of flower and vegetable seeds\, hanging basket materials\, containers\, tools – everything you need to keep up the momentum of the gardening year. Flower arranging materials are also on sale. \nBecause the Hut is run by volunteers\, commercial prices are heavily discounted. All profits are ploughed back into the Society. \nYou can pay by cash or card. \nLearn: The Hut also has a library of gardening books which members can borrow.
URL:https://www.lambethhorticulturalsociety.org.uk/event/hut-open-22/
LOCATION:The Hut\, Cedar Tree Grove\, London\, SE27 0QE
CATEGORIES:Hut - Trading Shop
ORGANIZER;CN="Hut Team":MAILTO:hut@lambethhorticulturalsociety.org.uk
END:VEVENT
BEGIN:VEVENT
DTSTART;TZID=Europe/London:20251130T100000
DTEND;TZID=Europe/London:20251130T123000
DTSTAMP:20260425T033317
CREATED:20230512T142227Z
LAST-MODIFIED:20250910T163104Z
UID:1769-1764496800-1764505800@www.lambethhorticulturalsociety.org.uk
SUMMARY:Hut Open
DESCRIPTION:Advice: Free advice from local experts. Volunteers are on hand to try to anwer your gardening queries\, from houseplants to allotments. From right plant right place to creating a new garden\, improving yield and wildlife-friendly horticultural practices. \nShop: Our shop has a huge range of garden and horticultural supplies\, bedding plants in the Spring and bulbs in Spring and Autumn plus top quality seeds\, tools and equipment\, compost\, horticultural sand\, grit and gravel\, and floral art material. You may also find patio plants\, vegetables\, roses\, tender perennials and annuals. There are always plenty of flower and vegetable seeds\, hanging basket materials\, containers\, tools – everything you need to keep up the momentum of the gardening year. Flower arranging materials are also on sale. \nBecause the Hut is run by volunteers\, commercial prices are heavily discounted. All profits are ploughed back into the Society. \nYou can pay by cash or card. \nLearn: The Hut also has a library of gardening books which members can borrow.
URL:https://www.lambethhorticulturalsociety.org.uk/event/hut-open-32/
LOCATION:The Hut\, Cedar Tree Grove\, London\, SE27 0QE
CATEGORIES:Hut - Trading Shop
ORGANIZER;CN="Hut Team":MAILTO:hut@lambethhorticulturalsociety.org.uk
END:VEVENT
END:VCALENDAR