BEGIN:VCALENDAR
VERSION:2.0
PRODID:-//Lambeth Horticultural Society - ECPv6.15.20//NONSGML v1.0//EN
CALSCALE:GREGORIAN
METHOD:PUBLISH
X-WR-CALNAME:Lambeth Horticultural Society
X-ORIGINAL-URL:https://www.lambethhorticulturalsociety.org.uk
X-WR-CALDESC:Events for Lambeth Horticultural Society
REFRESH-INTERVAL;VALUE=DURATION:PT1H
X-Robots-Tag:noindex
X-PUBLISHED-TTL:PT1H
BEGIN:VTIMEZONE
TZID:Europe/London
BEGIN:DAYLIGHT
TZOFFSETFROM:+0000
TZOFFSETTO:+0100
TZNAME:BST
DTSTART:20240331T010000
END:DAYLIGHT
BEGIN:STANDARD
TZOFFSETFROM:+0100
TZOFFSETTO:+0000
TZNAME:GMT
DTSTART:20241027T010000
END:STANDARD
BEGIN:DAYLIGHT
TZOFFSETFROM:+0000
TZOFFSETTO:+0100
TZNAME:BST
DTSTART:20250330T010000
END:DAYLIGHT
BEGIN:STANDARD
TZOFFSETFROM:+0100
TZOFFSETTO:+0000
TZNAME:GMT
DTSTART:20251026T010000
END:STANDARD
BEGIN:DAYLIGHT
TZOFFSETFROM:+0000
TZOFFSETTO:+0100
TZNAME:BST
DTSTART:20260329T010000
END:DAYLIGHT
BEGIN:STANDARD
TZOFFSETFROM:+0100
TZOFFSETTO:+0000
TZNAME:GMT
DTSTART:20261025T010000
END:STANDARD
END:VTIMEZONE
BEGIN:VEVENT
DTSTART;TZID=Europe/London:20251004T140000
DTEND;TZID=Europe/London:20251004T163000
DTSTAMP:20260425T050043
CREATED:20230512T161444Z
LAST-MODIFIED:20250814T180347Z
UID:1828-1759586400-1759595400@www.lambethhorticulturalsociety.org.uk
SUMMARY:Hut Open
DESCRIPTION:Advice: Free advice from local experts. Volunteers are on hand to try to anwer your gardening queries\, from houseplants to allotments. From right plant right place to creating a new garden\, improving yield and wildlife-friendly horticultural practices. \nShop: Our shop has a huge range of garden and horticultural supplies\, bedding plants in the Spring and bulbs in Spring and Autumn plus top quality seeds\, tools and equipment\, compost\, horticultural sand\, grit and gravel\, and floral art material. You may also find patio plants\, vegetables\, roses\, tender perennials and annuals. There are always plenty of flower and vegetable seeds\, hanging basket materials\, containers\, tools – everything you need to keep up the momentum of the gardening year. Flower arranging materials are also on sale. \nBecause the Hut is run by volunteers\, commercial prices are heavily discounted. All profits are ploughed back into the Society. \nYou can pay by cash or card. \nLearn: The Hut also has a library of gardening books which members can borrow.
URL:https://www.lambethhorticulturalsociety.org.uk/event/hut-open-52/
LOCATION:The Hut\, Cedar Tree Grove\, London\, SE27 0QE
CATEGORIES:Hut - Trading Shop
ORGANIZER;CN="Hut Team":MAILTO:hut@lambethhorticulturalsociety.org.uk
END:VEVENT
BEGIN:VEVENT
DTSTART;TZID=Europe/London:20251005T100000
DTEND;TZID=Europe/London:20251005T123000
DTSTAMP:20260425T050043
CREATED:20230915T160350Z
LAST-MODIFIED:20250814T180451Z
UID:2191-1759658400-1759667400@www.lambethhorticulturalsociety.org.uk
SUMMARY:Hut Open
DESCRIPTION:Advice: Free advice from local experts. Volunteers are on hand to try to anwer your gardening queries\, from houseplants to allotments. From right plant right place to creating a new garden\, improving yield and wildlife-friendly horticultural practices. \nShop: Our shop has a huge range of garden and horticultural supplies\, bedding plants in the Spring and bulbs in Spring and Autumn plus top quality seeds\, tools and equipment\, compost\, horticultural sand\, grit and gravel\, and floral art material. You may also find patio plants\, vegetables\, roses\, tender perennials and annuals. There are always plenty of flower and vegetable seeds\, hanging basket materials\, containers\, tools – everything you need to keep up the momentum of the gardening year. Flower arranging materials are also on sale. \nBecause the Hut is run by volunteers\, commercial prices are heavily discounted. All profits are ploughed back into the Society. \nYou can pay by cash or card. \nLearn: The Hut also has a library of gardening books which members can borrow.
URL:https://www.lambethhorticulturalsociety.org.uk/event/bring-buy-sale/
LOCATION:The Hut\, Cedar Tree Grove\, London\, SE27 0QE
CATEGORIES:Hut - Trading Shop
ORGANIZER;CN="Hut Team":MAILTO:hut@lambethhorticulturalsociety.org.uk
END:VEVENT
BEGIN:VEVENT
DTSTART;TZID=Europe/London:20251005T110000
DTEND;TZID=Europe/London:20251005T160000
DTSTAMP:20260425T050043
CREATED:20240808T190440Z
LAST-MODIFIED:20250828T192723Z
UID:3080-1759662000-1759680000@www.lambethhorticulturalsociety.org.uk
SUMMARY:Roots & Shoots Goes Wild
DESCRIPTION:  \n  \nVisit our pop up Hut at Roots and Shoots for this wonderful annual Autumn community event. \nFind out more about the LHS Wildlife Gardening Group. \n 
URL:https://www.lambethhorticulturalsociety.org.uk/event/roots-shoots-goes-wild/
LOCATION:Roots & Shoots\, Walnut Tree Walk\, London\, SE11 6DN
CATEGORIES:pop up Hut
ORGANIZER;CN="Hut Team":MAILTO:hut@lambethhorticulturalsociety.org.uk
END:VEVENT
BEGIN:VEVENT
DTSTART;TZID=Europe/London:20251011T140000
DTEND;TZID=Europe/London:20251011T163000
DTSTAMP:20260425T050043
CREATED:20230512T161620Z
LAST-MODIFIED:20250910T160202Z
UID:1832-1760191200-1760200200@www.lambethhorticulturalsociety.org.uk
SUMMARY:Hut Open with Autumn Bring & Buy
DESCRIPTION:This Autumn’s Bring & Buy is a great chance to fill your pots and beds with old favourites and maybe some zany newcomers. It’s a fun event (sharp elbows advisable)\, where you can find lots of bargains. \nDon’t forget to BRING please – otherwise there will be nothing for anyone to BUY.  Now is the chance to declutter your houseplants as well as share cuttings and spare outdoor plants. Also any unwanted garden equipment in good condition\, including terracotta pots. \nPlease also label your plants so we know what’s what. It would also be great if you could give a brief description of ideal growing conditions. \nThe Hut is open as usual for sales of soils\, seeds and equipment\, and free advice on your gardening conondrums.
URL:https://www.lambethhorticulturalsociety.org.uk/event/hut-open-54/
LOCATION:The Hut\, Cedar Tree Grove\, London\, SE27 0QE
CATEGORIES:Hut - Trading Shop
ORGANIZER;CN="Hut Team":MAILTO:hut@lambethhorticulturalsociety.org.uk
END:VEVENT
BEGIN:VEVENT
DTSTART;TZID=Europe/London:20251012T100000
DTEND;TZID=Europe/London:20251012T123000
DTSTAMP:20260425T050043
CREATED:20230512T161740Z
LAST-MODIFIED:20250910T160420Z
UID:1834-1760263200-1760272200@www.lambethhorticulturalsociety.org.uk
SUMMARY:Hut Open with Autumn Bring & Buy
DESCRIPTION:This Autumn’s Bring & Buy is a great chance to fill your pots and beds with old favourites and maybe some zany newcomers. It’s a fun event (sharp elbows advisable)\, where you can find lots of bargains. \nDon’t forget to BRING please – otherwise there will be nothing for anyone to BUY.  Now is the chance to declutter your houseplants as well as share cuttings and spare outdoor plants. Also any unwanted garden equipment in good condition\, including terracotta pots. \nPlease also label your plants so we know what’s what. It would also be great if you could give a brief description of ideal growing conditions. \nThe Hut is open as usual for sales of soils\, seeds and equipment\, and free advice on your gardening conondrums.
URL:https://www.lambethhorticulturalsociety.org.uk/event/hut-open-55/
LOCATION:The Hut\, Cedar Tree Grove\, London\, SE27 0QE
CATEGORIES:Hut - Trading Shop
ORGANIZER;CN="Hut Team":MAILTO:hut@lambethhorticulturalsociety.org.uk
END:VEVENT
BEGIN:VEVENT
DTSTART;TZID=Europe/London:20251018T140000
DTEND;TZID=Europe/London:20251018T163000
DTSTAMP:20260425T050043
CREATED:20250910T160912Z
LAST-MODIFIED:20250910T160912Z
UID:4037-1760796000-1760805000@www.lambethhorticulturalsociety.org.uk
SUMMARY:Hut Open
DESCRIPTION:Advice: Free advice from local experts. Volunteers are on hand to try to anwer your gardening queries\, from houseplants to allotments. From right plant right place to creating a new garden\, improving yield and wildlife-friendly horticultural practices. \nShop: Our shop has a huge range of garden and horticultural supplies\, bedding plants in the Spring and bulbs in Spring and Autumn plus top quality seeds\, tools and equipment\, compost\, horticultural sand\, grit and gravel\, and floral art material. You may also find patio plants\, vegetables\, roses\, tender perennials and annuals. There are always plenty of flower and vegetable seeds\, hanging basket materials\, containers\, tools – everything you need to keep up the momentum of the gardening year. Flower arranging materials are also on sale. \nBecause the Hut is run by volunteers\, commercial prices are heavily discounted. All profits are ploughed back into the Society. \nYou can pay by cash or card. \nLearn: The Hut also has a library of gardening books which members can borrow.
URL:https://www.lambethhorticulturalsociety.org.uk/event/hut-open-2/
LOCATION:The Hut\, Cedar Tree Grove\, London\, SE27 0QE
CATEGORIES:Hut - Trading Shop
ORGANIZER;CN="Hut Team":MAILTO:hut@lambethhorticulturalsociety.org.uk
END:VEVENT
BEGIN:VEVENT
DTSTART;TZID=Europe/London:20251019T100000
DTEND;TZID=Europe/London:20251019T123000
DTSTAMP:20260425T050043
CREATED:20250910T161034Z
LAST-MODIFIED:20250910T161034Z
UID:4039-1760868000-1760877000@www.lambethhorticulturalsociety.org.uk
SUMMARY:Hut Open
DESCRIPTION:Advice: Free advice from local experts. Volunteers are on hand to try to anwer your gardening queries\, from houseplants to allotments. From right plant right place to creating a new garden\, improving yield and wildlife-friendly horticultural practices. \nShop: Our shop has a huge range of garden and horticultural supplies\, bedding plants in the Spring and bulbs in Spring and Autumn plus top quality seeds\, tools and equipment\, compost\, horticultural sand\, grit and gravel\, and floral art material. You may also find patio plants\, vegetables\, roses\, tender perennials and annuals. There are always plenty of flower and vegetable seeds\, hanging basket materials\, containers\, tools – everything you need to keep up the momentum of the gardening year. Flower arranging materials are also on sale. \nBecause the Hut is run by volunteers\, commercial prices are heavily discounted. All profits are ploughed back into the Society. \nYou can pay by cash or card. \nLearn: The Hut also has a library of gardening books which members can borrow.
URL:https://www.lambethhorticulturalsociety.org.uk/event/hut-open-49/
LOCATION:The Hut\, Cedar Tree Grove\, London\, SE27 0QE
CATEGORIES:Hut - Trading Shop
ORGANIZER;CN="Hut Team":MAILTO:hut@lambethhorticulturalsociety.org.uk
END:VEVENT
BEGIN:VEVENT
DTSTART;TZID=Europe/London:20251025T140000
DTEND;TZID=Europe/London:20251025T163000
DTSTAMP:20260425T050043
CREATED:20230512T161829Z
LAST-MODIFIED:20250910T161157Z
UID:1836-1761400800-1761409800@www.lambethhorticulturalsociety.org.uk
SUMMARY:Hut Open
DESCRIPTION:Advice: Free advice from local experts. Volunteers are on hand to try to anwer your gardening queries\, from houseplants to allotments. From right plant right place to creating a new garden\, improving yield and wildlife-friendly horticultural practices. \nShop: Our shop has a huge range of garden and horticultural supplies\, bedding plants in the Spring and bulbs in Spring and Autumn plus top quality seeds\, tools and equipment\, compost\, horticultural sand\, grit and gravel\, and floral art material. You may also find patio plants\, vegetables\, roses\, tender perennials and annuals. There are always plenty of flower and vegetable seeds\, hanging basket materials\, containers\, tools – everything you need to keep up the momentum of the gardening year. Flower arranging materials are also on sale. \nBecause the Hut is run by volunteers\, commercial prices are heavily discounted. All profits are ploughed back into the Society. \nYou can pay by cash or card. \nLearn: The Hut also has a library of gardening books which members can borrow.
URL:https://www.lambethhorticulturalsociety.org.uk/event/hut-open-56/
LOCATION:The Hut\, Cedar Tree Grove\, London\, SE27 0QE
CATEGORIES:Hut - Trading Shop
ORGANIZER;CN="Hut Team":MAILTO:hut@lambethhorticulturalsociety.org.uk
END:VEVENT
BEGIN:VEVENT
DTSTART;TZID=Europe/London:20251026T100000
DTEND;TZID=Europe/London:20251026T123000
DTSTAMP:20260425T050043
CREATED:20230512T161915Z
LAST-MODIFIED:20250910T161354Z
UID:1838-1761472800-1761481800@www.lambethhorticulturalsociety.org.uk
SUMMARY:Hut Open
DESCRIPTION:Advice: Free advice from local experts. Volunteers are on hand to try to anwer your gardening queries\, from houseplants to allotments. From right plant right place to creating a new garden\, improving yield and wildlife-friendly horticultural practices. \nShop: Our shop has a huge range of garden and horticultural supplies\, bedding plants in the Spring and bulbs in Spring and Autumn plus top quality seeds\, tools and equipment\, compost\, horticultural sand\, grit and gravel\, and floral art material. You may also find patio plants\, vegetables\, roses\, tender perennials and annuals. There are always plenty of flower and vegetable seeds\, hanging basket materials\, containers\, tools – everything you need to keep up the momentum of the gardening year. Flower arranging materials are also on sale. \nBecause the Hut is run by volunteers\, commercial prices are heavily discounted. All profits are ploughed back into the Society. \nYou can pay by cash or card. \nLearn: The Hut also has a library of gardening books which members can borrow.
URL:https://www.lambethhorticulturalsociety.org.uk/event/hut-open-57/
LOCATION:The Hut\, Cedar Tree Grove\, London\, SE27 0QE
CATEGORIES:Hut - Trading Shop
ORGANIZER;CN="Hut Team":MAILTO:hut@lambethhorticulturalsociety.org.uk
END:VEVENT
END:VCALENDAR