BEGIN:VCALENDAR
VERSION:2.0
PRODID:-//Lambeth Horticultural Society - ECPv6.15.20//NONSGML v1.0//EN
CALSCALE:GREGORIAN
METHOD:PUBLISH
X-ORIGINAL-URL:https://www.lambethhorticulturalsociety.org.uk
X-WR-CALDESC:Events for Lambeth Horticultural Society
REFRESH-INTERVAL;VALUE=DURATION:PT1H
X-Robots-Tag:noindex
X-PUBLISHED-TTL:PT1H
BEGIN:VTIMEZONE
TZID:Europe/London
BEGIN:DAYLIGHT
TZOFFSETFROM:+0000
TZOFFSETTO:+0100
TZNAME:BST
DTSTART:20230326T010000
END:DAYLIGHT
BEGIN:STANDARD
TZOFFSETFROM:+0100
TZOFFSETTO:+0000
TZNAME:GMT
DTSTART:20231029T010000
END:STANDARD
BEGIN:DAYLIGHT
TZOFFSETFROM:+0000
TZOFFSETTO:+0100
TZNAME:BST
DTSTART:20240331T010000
END:DAYLIGHT
BEGIN:STANDARD
TZOFFSETFROM:+0100
TZOFFSETTO:+0000
TZNAME:GMT
DTSTART:20241027T010000
END:STANDARD
BEGIN:DAYLIGHT
TZOFFSETFROM:+0000
TZOFFSETTO:+0100
TZNAME:BST
DTSTART:20250330T010000
END:DAYLIGHT
BEGIN:STANDARD
TZOFFSETFROM:+0100
TZOFFSETTO:+0000
TZNAME:GMT
DTSTART:20251026T010000
END:STANDARD
END:VTIMEZONE
BEGIN:VEVENT
DTSTART;TZID=Europe/London:20240922T110000
DTEND;TZID=Europe/London:20240922T150000
DTSTAMP:20260424T132744
CREATED:20240918T085723Z
LAST-MODIFIED:20240919T054104Z
UID:3140-1727002800-1727017200@www.lambethhorticulturalsociety.org.uk
SUMMARY:Spring Bulb Planting Workshops at West Norwood Cemetery Open Day
DESCRIPTION:Our free spring bulb planting workshops run throughout the event. You’ll learn how to plant a ‘lasagna’ of spring bulbs\, take away your pot and enjoy the show of flowers in spring! \nPlaces are limited so please sign up when you arrive. \nPlease note this activity is not designed as a children’s event. \nThe event is organised by West Norwood Cemetery. Our stall will be with others in the entrance area of the cemetery just on the corner of Norwood Road and Robson Road. \nThere are lots of other activities too – check out the website.
URL:https://www.lambethhorticulturalsociety.org.uk/event/west-norwood-cemetery-open-day/
LOCATION:West Norwood Cemetery\, Norwood Road\, West Norwood\,\, SE27 9JU
CATEGORIES:Workshop
ATTACH;FMTTYPE=image/jpeg:https://www.lambethhorticulturalsociety.org.uk/wp-content/uploads/2024/09/IMG_8155.jpg
END:VEVENT
END:VCALENDAR