BEGIN:VCALENDAR
VERSION:2.0
PRODID:-//Lambeth Horticultural Society - ECPv6.15.20//NONSGML v1.0//EN
CALSCALE:GREGORIAN
METHOD:PUBLISH
X-ORIGINAL-URL:https://www.lambethhorticulturalsociety.org.uk
X-WR-CALDESC:Events for Lambeth Horticultural Society
REFRESH-INTERVAL;VALUE=DURATION:PT1H
X-Robots-Tag:noindex
X-PUBLISHED-TTL:PT1H
BEGIN:VTIMEZONE
TZID:Europe/London
BEGIN:DAYLIGHT
TZOFFSETFROM:+0000
TZOFFSETTO:+0100
TZNAME:BST
DTSTART:20250330T010000
END:DAYLIGHT
BEGIN:STANDARD
TZOFFSETFROM:+0100
TZOFFSETTO:+0000
TZNAME:GMT
DTSTART:20251026T010000
END:STANDARD
BEGIN:DAYLIGHT
TZOFFSETFROM:+0000
TZOFFSETTO:+0100
TZNAME:BST
DTSTART:20260329T010000
END:DAYLIGHT
BEGIN:STANDARD
TZOFFSETFROM:+0100
TZOFFSETTO:+0000
TZNAME:GMT
DTSTART:20261025T010000
END:STANDARD
BEGIN:DAYLIGHT
TZOFFSETFROM:+0000
TZOFFSETTO:+0100
TZNAME:BST
DTSTART:20270328T010000
END:DAYLIGHT
BEGIN:STANDARD
TZOFFSETFROM:+0100
TZOFFSETTO:+0000
TZNAME:GMT
DTSTART:20271031T010000
END:STANDARD
END:VTIMEZONE
BEGIN:VEVENT
DTSTART;TZID=Europe/London:20260422T193000
DTEND;TZID=Europe/London:20260422T213000
DTSTAMP:20260422T101431
CREATED:20230509T115625Z
LAST-MODIFIED:20260401T195348Z
UID:1656-1776886200-1776893400@www.lambethhorticulturalsociety.org.uk
SUMMARY:Free Talk: 'Composting - All You Ever Wanted to Know!'
DESCRIPTION:Speaker: Andrew Babicz \n\nWhat’s the point?\nWhat can I do with it?\nWhat can I compost?\nWhat can’t I compost?\nWhat are the ingredients to make it successful?\nLeaf Mould The types of bins/heaps etc.\, and wormeries.\n\nAndrew is currently the Secretary and a judge with the London Gardens Society which includes London’s Squares\, Bexley in Bloom and London Alms-houses. \n“I started as an apprentice gardener at Inverewe Gardens in the North West coast of Scotland with The National Trust for Scotland and went on to work at The Royal Horticultural Society‘s Garden\, Wisley\, Kew Gardens and Hampton Court Palace Garden. I also spent a year working on nurseries in Holland. \nI studied at Somerset College of Agriculture and Horticulture\, Cannington\, for two years and then studied for three years at The Royal Botanic Garden Edinburgh. \nI worked for the Parks Department of the London Borough of Croydon as their Horticultural Officer and then moved to the London Borough of Redbridge as Assistant Parks Manager\, subsequently becoming their Chief Recreation Manager.” SpeakerNet \n  \nCome to our first Talk of 2026! The Talk begins at 8pm. Doors open at 7.30pm. \nLight refreshments & raffle (cash only). \n 
URL:https://www.lambethhorticulturalsociety.org.uk/event/free-talk/
LOCATION:The Old Library\, 14 - 15 Knight's Hill\, London\, SE27 0HY
CATEGORIES:Talk
ORGANIZER;CN="Outings":MAILTO:outings@lambethhorticulturalsociety.org.uk
END:VEVENT
BEGIN:VEVENT
DTSTART;TZID=Europe/London:20260425T140000
DTEND;TZID=Europe/London:20260425T163000
DTSTAMP:20260422T101431
CREATED:20240323T135056Z
LAST-MODIFIED:20260209T170613Z
UID:2494-1777125600-1777134600@www.lambethhorticulturalsociety.org.uk
SUMMARY:Hut Open
DESCRIPTION:Stock up with tools\, seeds\, bulbs\, soil and all the miscellaneous items you need to get your gardening year off to a flying start. \nQuality stock at trade prices. \nHelp and information for novices and professionals. \nFor allotments\, gardens large and small\, balconies\, window  boxes and houseplants \nWith an emphasis on sustainability\, shared learning and enjoyment
URL:https://www.lambethhorticulturalsociety.org.uk/event/hut-open-81/
LOCATION:The Hut\, Cedar Tree Grove\, London\, SE27 0QE
CATEGORIES:Hut - Trading Shop
ORGANIZER;CN="Hut Team":MAILTO:hut@lambethhorticulturalsociety.org.uk
END:VEVENT
BEGIN:VEVENT
DTSTART;TZID=Europe/London:20260426T100000
DTEND;TZID=Europe/London:20260426T123000
DTSTAMP:20260422T101431
CREATED:20240323T134338Z
LAST-MODIFIED:20260209T170707Z
UID:2488-1777197600-1777206600@www.lambethhorticulturalsociety.org.uk
SUMMARY:Hut Open
DESCRIPTION:Stock up with tools\, seeds\, bulbs\, soil and all the miscellaneous items you need to get your gardening year off to a flying start. \nQuality stock at trade prices. \nHelp and information for novices and professionals. \nFor allotments\, gardens large and small\, balconies\, window  boxes and houseplants \nWith an emphasis on sustainability\, shared learning and enjoyment
URL:https://www.lambethhorticulturalsociety.org.uk/event/hut-open-78/
LOCATION:The Hut\, Cedar Tree Grove\, London\, SE27 0QE
CATEGORIES:Hut - Trading Shop
ORGANIZER;CN="Hut Team":MAILTO:hut@lambethhorticulturalsociety.org.uk
END:VEVENT
END:VCALENDAR