BEGIN:VCALENDAR
VERSION:2.0
PRODID:-//Lambeth Horticultural Society - ECPv6.15.20//NONSGML v1.0//EN
CALSCALE:GREGORIAN
METHOD:PUBLISH
X-WR-CALNAME:Lambeth Horticultural Society
X-ORIGINAL-URL:https://www.lambethhorticulturalsociety.org.uk
X-WR-CALDESC:Events for Lambeth Horticultural Society
REFRESH-INTERVAL;VALUE=DURATION:PT1H
X-Robots-Tag:noindex
X-PUBLISHED-TTL:PT1H
BEGIN:VTIMEZONE
TZID:Europe/London
BEGIN:DAYLIGHT
TZOFFSETFROM:+0000
TZOFFSETTO:+0100
TZNAME:BST
DTSTART:20250330T010000
END:DAYLIGHT
BEGIN:STANDARD
TZOFFSETFROM:+0100
TZOFFSETTO:+0000
TZNAME:GMT
DTSTART:20251026T010000
END:STANDARD
BEGIN:DAYLIGHT
TZOFFSETFROM:+0000
TZOFFSETTO:+0100
TZNAME:BST
DTSTART:20260329T010000
END:DAYLIGHT
BEGIN:STANDARD
TZOFFSETFROM:+0100
TZOFFSETTO:+0000
TZNAME:GMT
DTSTART:20261025T010000
END:STANDARD
BEGIN:DAYLIGHT
TZOFFSETFROM:+0000
TZOFFSETTO:+0100
TZNAME:BST
DTSTART:20270328T010000
END:DAYLIGHT
BEGIN:STANDARD
TZOFFSETFROM:+0100
TZOFFSETTO:+0000
TZNAME:GMT
DTSTART:20271031T010000
END:STANDARD
END:VTIMEZONE
BEGIN:VEVENT
DTSTART;TZID=Europe/London:20260704T140000
DTEND;TZID=Europe/London:20260704T163000
DTSTAMP:20260422T145744
CREATED:20230512T142025Z
LAST-MODIFIED:20260312T122721Z
UID:1749-1783173600-1783182600@www.lambethhorticulturalsociety.org.uk
SUMMARY:Hut Open
DESCRIPTION:Stock up with tools\, seeds\, bulbs\, soil and all the miscellaneous items you need to get your gardening year off to a flying start. \nQuality stock at trade prices. \nHelp and information for novices and professionals. \nFor allotments\, gardens large and small\, balconies\, window  boxes and houseplants \nWith an emphasis on sustainability\, shared learning and enjoyment
URL:https://www.lambethhorticulturalsociety.org.uk/event/hut-open-13/
LOCATION:The Hut\, Cedar Tree Grove\, London\, SE27 0QE
CATEGORIES:Hut - Trading Shop
ORGANIZER;CN="Hut Team":MAILTO:hut@lambethhorticulturalsociety.org.uk
END:VEVENT
BEGIN:VEVENT
DTSTART;TZID=Europe/London:20260705T100000
DTEND;TZID=Europe/London:20260705T123000
DTSTAMP:20260422T145744
CREATED:20230512T142127Z
LAST-MODIFIED:20260312T122809Z
UID:1761-1783245600-1783254600@www.lambethhorticulturalsociety.org.uk
SUMMARY:Hut Open
DESCRIPTION:Stock up with tools\, seeds\, bulbs\, soil and all the miscellaneous items you need to get your gardening year off to a flying start. \nQuality stock at trade prices. \nHelp and information for novices and professionals. \nFor allotments\, gardens large and small\, balconies\, window  boxes and houseplants \nWith an emphasis on sustainability\, shared learning and enjoyment
URL:https://www.lambethhorticulturalsociety.org.uk/event/hut-open-24/
LOCATION:The Hut\, Cedar Tree Grove\, London\, SE27 0QE
CATEGORIES:Hut - Trading Shop
ORGANIZER;CN="Hut Team":MAILTO:hut@lambethhorticulturalsociety.org.uk
END:VEVENT
BEGIN:VEVENT
DTSTART;TZID=Europe/London:20260711T100000
DTEND;TZID=Europe/London:20260711T170000
DTSTAMP:20260422T145744
CREATED:20240317T103033Z
LAST-MODIFIED:20260329T172707Z
UID:2410-1783764000-1783789200@www.lambethhorticulturalsociety.org.uk
SUMMARY:Sissinghurst Castle Garden NT - LHS Outing
DESCRIPTION:Sissinghurst\nSaturday 11 July\, Biddenden Road\, near Cranbrook\, Kent\, TN17 2AB  \nExact Timings & Price TBC \nA world-renowned\, romantic C20 garden in Kent\, former home to Vita Sackville-West and Harold Nicholson. \nBook online via Eventbrite (incurs a booking fee) or in person at the Hut. \nFor further information\, contantact Outings. \nPlease note\, you must be an LHS member to book.
URL:https://www.lambethhorticulturalsociety.org.uk/event/peckover-house-garden-lhs-outing/
CATEGORIES:Members,Outings
ORGANIZER;CN="Outings":MAILTO:outings@lambethhorticulturalsociety.org.uk
END:VEVENT
BEGIN:VEVENT
DTSTART;TZID=Europe/London:20260711T140000
DTEND;TZID=Europe/London:20260711T163000
DTSTAMP:20260422T145744
CREATED:20230512T142042Z
LAST-MODIFIED:20260312T122854Z
UID:1756-1783778400-1783787400@www.lambethhorticulturalsociety.org.uk
SUMMARY:Hut Open
DESCRIPTION:Stock up with tools\, seeds\, bulbs\, soil and all the miscellaneous items you need to get your gardening year off to a flying start. \nQuality stock at trade prices. \nHelp and information for novices and professionals. \nFor allotments\, gardens large and small\, balconies\, window  boxes and houseplants \nWith an emphasis on sustainability\, shared learning and enjoyment
URL:https://www.lambethhorticulturalsociety.org.uk/event/hut-open-19/
LOCATION:The Hut\, Cedar Tree Grove\, London\, SE27 0QE
CATEGORIES:Hut - Trading Shop
ORGANIZER;CN="Hut Team":MAILTO:hut@lambethhorticulturalsociety.org.uk
END:VEVENT
BEGIN:VEVENT
DTSTART;TZID=Europe/London:20260712T100000
DTEND;TZID=Europe/London:20260712T123000
DTSTAMP:20260422T145744
CREATED:20230512T154103Z
LAST-MODIFIED:20260312T122933Z
UID:1798-1783850400-1783859400@www.lambethhorticulturalsociety.org.uk
SUMMARY:Hut Open
DESCRIPTION:Stock up with tools\, seeds\, bulbs\, soil and all the miscellaneous items you need to get your gardening year off to a flying start. \nQuality stock at trade prices. \nHelp and information for novices and professionals. \nFor allotments\, gardens large and small\, balconies\, window  boxes and houseplants \nWith an emphasis on sustainability\, shared learning and enjoyment
URL:https://www.lambethhorticulturalsociety.org.uk/event/hut-open-37/
CATEGORIES:Hut - Trading Shop
ORGANIZER;CN="Hut Team":MAILTO:hut@lambethhorticulturalsociety.org.uk
END:VEVENT
BEGIN:VEVENT
DTSTART;TZID=Europe/London:20260718T140000
DTEND;TZID=Europe/London:20260718T163000
DTSTAMP:20260422T145744
CREATED:20230512T154200Z
LAST-MODIFIED:20260312T123103Z
UID:1800-1784383200-1784392200@www.lambethhorticulturalsociety.org.uk
SUMMARY:Hut Open
DESCRIPTION:Stock up with tools\, seeds\, bulbs\, soil and all the miscellaneous items you need to get your gardening year off to a flying start. \nQuality stock at trade prices. \nHelp and information for novices and professionals. \nFor allotments\, gardens large and small\, balconies\, window  boxes and houseplants \nWith an emphasis on sustainability\, shared learning and enjoyment
URL:https://www.lambethhorticulturalsociety.org.uk/event/hut-open-38/
CATEGORIES:Hut - Trading Shop
ORGANIZER;CN="Hut Team":MAILTO:hut@lambethhorticulturalsociety.org.uk
END:VEVENT
BEGIN:VEVENT
DTSTART;TZID=Europe/London:20260719T100000
DTEND;TZID=Europe/London:20260719T123000
DTSTAMP:20260422T145744
CREATED:20230512T154250Z
LAST-MODIFIED:20260312T123143Z
UID:1802-1784455200-1784464200@www.lambethhorticulturalsociety.org.uk
SUMMARY:Hut Open
DESCRIPTION:Stock up with tools\, seeds\, bulbs\, soil and all the miscellaneous items you need to get your gardening year off to a flying start. \nQuality stock at trade prices. \nHelp and information for novices and professionals. \nFor allotments\, gardens large and small\, balconies\, window  boxes and houseplants \nWith an emphasis on sustainability\, shared learning and enjoyment
URL:https://www.lambethhorticulturalsociety.org.uk/event/hut-open-39/
LOCATION:The Hut\, Cedar Tree Grove\, London\, SE27 0QE
CATEGORIES:Hut - Trading Shop
ORGANIZER;CN="Hut Team":MAILTO:hut@lambethhorticulturalsociety.org.uk
END:VEVENT
BEGIN:VEVENT
DTSTART;TZID=Europe/London:20260722T193000
DTEND;TZID=Europe/London:20260722T213000
DTSTAMP:20260422T145744
CREATED:20230509T205745Z
LAST-MODIFIED:20260408T053220Z
UID:1714-1784748600-1784755800@www.lambethhorticulturalsociety.org.uk
SUMMARY:Free Talk: Orchid Cultivation in Gardens and Meadow
DESCRIPTION:Speaker: Dr Wilson J Wall  Orchid Cultivation in Gardens and Meadow – How to cultivate British native orchids in large and small gardens. \nIncludes details of cultivation from seed. \nA review of some of the species that can be successfully cultivated and how this has been done with examples of garden meadows. \nA scientist by training and inclination Wilson started as a zoology graduate\, then carried out research in human genetics for my PhD. A senior research fellow at St Mary’s Hospital Medical School\, he had a career in clinical genetics before moving into conservation. He founded Bewdley Orchids\, a specialist conservation nursery focused on cultivating British native orchids from seed to help restore local biodiversity and repopulate habitats. \nHe has written over a dozen books\, text books\, popular science and professional level books. These have all been science based on many varied subjects such as genetics\, astronomy\, orchid cultivation and meadow cultivation. \nDoors open 7.30 pm. The Talk starts 8 pm. \nEveryone is welcome to our talks. Suggested donation £5.
URL:https://www.lambethhorticulturalsociety.org.uk/event/free-talk-3/
LOCATION:The Old Library\, 14 - 15 Knight's Hill\, London\, SE27 0HY
CATEGORIES:Talk
ORGANIZER;CN="Outings":MAILTO:outings@lambethhorticulturalsociety.org.uk
END:VEVENT
BEGIN:VEVENT
DTSTART;TZID=Europe/London:20260725T140000
DTEND;TZID=Europe/London:20260725T163000
DTSTAMP:20260422T145744
CREATED:20230512T154338Z
LAST-MODIFIED:20260312T123225Z
UID:1804-1784988000-1784997000@www.lambethhorticulturalsociety.org.uk
SUMMARY:Hut Open
DESCRIPTION:Stock up with tools\, seeds\, bulbs\, soil and all the miscellaneous items you need to get your gardening year off to a flying start. \nQuality stock at trade prices. \nHelp and information for novices and professionals. \nFor allotments\, gardens large and small\, balconies\, window  boxes and houseplants \nWith an emphasis on sustainability\, shared learning and enjoyment
URL:https://www.lambethhorticulturalsociety.org.uk/event/hut-open-40/
LOCATION:The Hut\, Cedar Tree Grove\, London\, SE27 0QE
CATEGORIES:Hut - Trading Shop
ORGANIZER;CN="Hut Team":MAILTO:hut@lambethhorticulturalsociety.org.uk
END:VEVENT
BEGIN:VEVENT
DTSTART;TZID=Europe/London:20260726T100000
DTEND;TZID=Europe/London:20260726T123000
DTSTAMP:20260422T145744
CREATED:20230509T210802Z
LAST-MODIFIED:20260312T123301Z
UID:1728-1785060000-1785069000@www.lambethhorticulturalsociety.org.uk
SUMMARY:Hut Open
DESCRIPTION:Stock up with tools\, seeds\, bulbs\, soil and all the miscellaneous items you need to get your gardening year off to a flying start. \nQuality stock at trade prices. \nHelp and information for novices and professionals. \nFor allotments\, gardens large and small\, balconies\, window  boxes and houseplants \nWith an emphasis on sustainability\, shared learning and enjoyment
URL:https://www.lambethhorticulturalsociety.org.uk/event/hut-open-10/
LOCATION:The Hut\, Cedar Tree Grove\, London\, SE27 0QE
CATEGORIES:Hut - Trading Shop
ORGANIZER;CN="Hut Team":MAILTO:hut@lambethhorticulturalsociety.org.uk
END:VEVENT
END:VCALENDAR