BEGIN:VCALENDAR
VERSION:2.0
PRODID:-//Lambeth Horticultural Society - ECPv6.15.20//NONSGML v1.0//EN
CALSCALE:GREGORIAN
METHOD:PUBLISH
X-ORIGINAL-URL:https://www.lambethhorticulturalsociety.org.uk
X-WR-CALDESC:Events for Lambeth Horticultural Society
REFRESH-INTERVAL;VALUE=DURATION:PT1H
X-Robots-Tag:noindex
X-PUBLISHED-TTL:PT1H
BEGIN:VTIMEZONE
TZID:Europe/London
BEGIN:DAYLIGHT
TZOFFSETFROM:+0000
TZOFFSETTO:+0100
TZNAME:BST
DTSTART:20250330T010000
END:DAYLIGHT
BEGIN:STANDARD
TZOFFSETFROM:+0100
TZOFFSETTO:+0000
TZNAME:GMT
DTSTART:20251026T010000
END:STANDARD
BEGIN:DAYLIGHT
TZOFFSETFROM:+0000
TZOFFSETTO:+0100
TZNAME:BST
DTSTART:20260329T010000
END:DAYLIGHT
BEGIN:STANDARD
TZOFFSETFROM:+0100
TZOFFSETTO:+0000
TZNAME:GMT
DTSTART:20261025T010000
END:STANDARD
BEGIN:DAYLIGHT
TZOFFSETFROM:+0000
TZOFFSETTO:+0100
TZNAME:BST
DTSTART:20270328T010000
END:DAYLIGHT
BEGIN:STANDARD
TZOFFSETFROM:+0100
TZOFFSETTO:+0000
TZNAME:GMT
DTSTART:20271031T010000
END:STANDARD
END:VTIMEZONE
BEGIN:VEVENT
DTSTART;TZID=Europe/London:20260502T140000
DTEND;TZID=Europe/London:20260502T163000
DTSTAMP:20260422T113659
CREATED:20230509T203850Z
LAST-MODIFIED:20260312T115606Z
UID:1698-1777730400-1777739400@www.lambethhorticulturalsociety.org.uk
SUMMARY:Hut Open with Bring & Buy Plant Sale
DESCRIPTION:There will be bargains galore to be had during the two weekends of our popular Bring & Buy sales – don’t miss out! \nBring & Buy is a great way to find new plants for your home\, garden and/or allotment at super keen prices. Try something different! \nWe need Bringers as well as Buyers\, so please don’t forget to also bring your donations of cuttings\, seedlings and other plants that you don’t have space for. There are plenty of recycled pots for potting on at the Hut for a small donation. Please label all pots. \nQuality stock at trade prices \nFor allotments\, gardens large and small\, balconies\, window  boxes and houseplants \nHelp and information for novices and professionals \nVisit the Hut for \n\nseasonal flowering bulbs\nseed potatoes\, onion sets in season\nveg and flower seeds\npotting and specialist composts\, top soil and mulches in various sized bags\ngarden tools and accessories\nfleece etc\nrecycled plastic pots and seed trays for sowing and potting on. (Free\, but donations please!)\n\nRenew your membership or join us. \nWith an emphasis on sustainability\, shared learning and enjoyment
URL:https://www.lambethhorticulturalsociety.org.uk/event/hut-open-3/
LOCATION:The Hut\, Cedar Tree Grove\, London\, SE27 0QE
CATEGORIES:Hut - Trading Shop
ORGANIZER;CN="Hut Team":MAILTO:hut@lambethhorticulturalsociety.org.uk
END:VEVENT
BEGIN:VEVENT
DTSTART;TZID=Europe/London:20260503T100000
DTEND;TZID=Europe/London:20260503T123000
DTSTAMP:20260422T113659
CREATED:20230509T204016Z
LAST-MODIFIED:20260312T115721Z
UID:1700-1777802400-1777811400@www.lambethhorticulturalsociety.org.uk
SUMMARY:Hut Open with Bring & Buy Plant Sale
DESCRIPTION:There will be bargains galore to be had during the two weekends of our popular Bring & Buy sales – don’t miss out! \nBring & Buy is a great way to find new plants for your home\, garden and/or allotment at super keen prices. Try something different! \nWe need Bringers as well as Buyers\, so please don’t forget to also bring your donations of cuttings\, seedlings and other plants that you don’t have space for. There are plenty of recycled pots for potting on at the Hut for a small donation. Please label all pots. \nQuality stock at trade prices \nFor allotments\, gardens large and small\, balconies\, window  boxes and houseplants \nHelp and information for novices and professionals \nVisit the Hut for \n\nseasonal flowering bulbs\nseed potatoes\, onion sets in season\nveg and flower seeds\npotting and specialist composts\, top soil and mulches in various sized bags\ngarden tools and accessories\nfleece etc\nrecycled plastic pots and seed trays for sowing and potting on. (Free\, but donations please!)\n\nRenew your membership or join us. \nWith an emphasis on sustainability\, shared learning and enjoyment
URL:https://www.lambethhorticulturalsociety.org.uk/event/hut-open-4/
LOCATION:The Hut\, Cedar Tree Grove\, London\, SE27 0QE
CATEGORIES:Hut - Trading Shop
ORGANIZER;CN="Hut Team":MAILTO:hut@lambethhorticulturalsociety.org.uk
END:VEVENT
BEGIN:VEVENT
DTSTART;TZID=Europe/London:20260509T140000
DTEND;TZID=Europe/London:20260509T163000
DTSTAMP:20260422T113659
CREATED:20240323T135822Z
LAST-MODIFIED:20260312T115819Z
UID:2498-1778335200-1778344200@www.lambethhorticulturalsociety.org.uk
SUMMARY:Hut Open with Bring & Buy Plant Sale
DESCRIPTION:There will be bargains galore to be had during the two weekends of our popular Bring & Buy sales – don’t miss out! \nBring & Buy is a great way to find new plants for your home\, garden and/or allotment at super keen prices. Try something different! \nWe need Bringers as well as Buyers\, so please don’t forget to also bring your donations of cuttings\, seedlings and other plants that you don’t have space for. There are plenty of recycled pots for potting on at the Hut for a small donation. Please label all pots. \nQuality stock at trade prices \nFor allotments\, gardens large and small\, balconies\, window  boxes and houseplants \nHelp and information for novices and professionals \nVisit the Hut for \n\nseasonal flowering bulbs\nseed potatoes\, onion sets in season\nveg and flower seeds\npotting and specialist composts\, top soil and mulches in various sized bags\ngarden tools and accessories\nfleece etc\nrecycled plastic pots and seed trays for sowing and potting on. (Free\, but donations please!)\n\nRenew your membership or join us. \nWith an emphasis on sustainability\, shared learning and enjoyment
URL:https://www.lambethhorticulturalsociety.org.uk/event/hut-open-82/
LOCATION:The Hut\, Cedar Tree Grove\, London\, SE27 0QE
CATEGORIES:Hut - Trading Shop
ORGANIZER;CN="Hut Team":MAILTO:hut@lambethhorticulturalsociety.org.uk
END:VEVENT
BEGIN:VEVENT
DTSTART;TZID=Europe/London:20260510T100000
DTEND;TZID=Europe/London:20260510T123000
DTSTAMP:20260422T113659
CREATED:20240323T135923Z
LAST-MODIFIED:20260312T115912Z
UID:2500-1778407200-1778416200@www.lambethhorticulturalsociety.org.uk
SUMMARY:Hut Open with Bring & Buy Plant Sale
DESCRIPTION:It’s the final day of our Spring Bring & Buy! Don’t miss out! \nBring & Buy is a great way to find new plants for your home\, garden and/or allotment at super keen prices. Try something different! \nWe need Bringers as well as Buyers\, so please don’t forget to also bring your donations of cuttings\, seedlings and other plants that you don’t have space for. There are plenty of recycled pots for potting on at the Hut for a small donation. Please label all pots. \nQuality stock at trade prices \nFor allotments\, gardens large and small\, balconies\, window  boxes and houseplants \nHelp and information for novices and professionals \nVisit the Hut for \n\nseasonal flowering bulbs\nseed potatoes\, onion sets in season\nveg and flower seeds\npotting and specialist composts\, top soil and mulches in various sized bags\ngarden tools and accessories\nfleece etc\nrecycled plastic pots and seed trays for sowing and potting on. (Free\, but donations please!)\n\nRenew your membership or join us. \nWith an emphasis on sustainability\, shared learning and enjoyment
URL:https://www.lambethhorticulturalsociety.org.uk/event/hut-open-83/
LOCATION:The Hut\, Cedar Tree Grove\, London\, SE27 0QE
CATEGORIES:Hut - Trading Shop
ORGANIZER;CN="Hut Team":MAILTO:hut@lambethhorticulturalsociety.org.uk
END:VEVENT
BEGIN:VEVENT
DTSTART;TZID=Europe/London:20260516T140000
DTEND;TZID=Europe/London:20260516T163000
DTSTAMP:20260422T113659
CREATED:20240323T140234Z
LAST-MODIFIED:20260312T120124Z
UID:2504-1778940000-1778949000@www.lambethhorticulturalsociety.org.uk
SUMMARY:Hut Open
DESCRIPTION:Stock up with tools\, seeds\, bulbs\, soil and all the miscellaneous items you need to get your gardening year off to a flying start. \nQuality stock at trade prices. \nHelp and information for novices and professionals. \nFor allotments\, gardens large and small\, balconies\, window  boxes and houseplants \nWith an emphasis on sustainability\, shared learning and enjoyment \n 
URL:https://www.lambethhorticulturalsociety.org.uk/event/hut-open-85/
LOCATION:The Hut\, Cedar Tree Grove\, London\, SE27 0QE
CATEGORIES:Hut - Trading Shop
ORGANIZER;CN="Hut Team":MAILTO:hut@lambethhorticulturalsociety.org.uk
END:VEVENT
BEGIN:VEVENT
DTSTART;TZID=Europe/London:20260517T100000
DTEND;TZID=Europe/London:20260517T123000
DTSTAMP:20260422T113659
CREATED:20240323T140026Z
LAST-MODIFIED:20260312T120230Z
UID:2502-1779012000-1779021000@www.lambethhorticulturalsociety.org.uk
SUMMARY:Hut Open
DESCRIPTION:Stock up with tools\, seeds\, bulbs\, soil and all the miscellaneous items you need to get your gardening year off to a flying start. \nQuality stock at trade prices. \nHelp and information for novices and professionals. \nFor allotments\, gardens large and small\, balconies\, window  boxes and houseplants \nWith an emphasis on sustainability\, shared learning and enjoyment
URL:https://www.lambethhorticulturalsociety.org.uk/event/hut-open-84/
LOCATION:The Hut\, Cedar Tree Grove\, London\, SE27 0QE
CATEGORIES:Hut - Trading Shop
ORGANIZER;CN="Hut Team":MAILTO:hut@lambethhorticulturalsociety.org.uk
END:VEVENT
BEGIN:VEVENT
DTSTART;TZID=Europe/London:20260517T110000
DTEND;TZID=Europe/London:20260517T160000
DTSTAMP:20260422T113659
CREATED:20260209T163844Z
LAST-MODIFIED:20260330T065305Z
UID:4300-1779015600-1779033600@www.lambethhorticulturalsociety.org.uk
SUMMARY:Flourish Fest\, Roots & Shoots
DESCRIPTION:We’re back at Flourish Fest\, a day of celebration and learning at Roots & Shoots. They say: \n“Join us at Roots and Shoots’ for our flower-filled annual community event FlourishFest\, a brilliant spring day out where we open our gates for all on Sunday May 17th 2026. Visit our UNESCO award-winning gardens and enjoy flower-power-inspired nature and creative activities\, workshops and talks on wildlife gardening\, alongside stalls featuring delicious food and garden paraphernalia.” \nVisit the pop up Hut\, and learn more about the Wildlife Gardening Group.
URL:https://www.lambethhorticulturalsociety.org.uk/event/flourish-fest-roots-shoots/
LOCATION:Roots & Shoots\, Walnut Tree Walk\, London\, SE11 6DN
CATEGORIES:Community Event
END:VEVENT
BEGIN:VEVENT
DTSTART;TZID=Europe/London:20260523T140000
DTEND;TZID=Europe/London:20260523T163000
DTSTAMP:20260422T113659
CREATED:20230509T205106Z
LAST-MODIFIED:20260312T120309Z
UID:1704-1779544800-1779553800@www.lambethhorticulturalsociety.org.uk
SUMMARY:Hut Open
DESCRIPTION:Stock up with tools\, seeds\, bulbs\, soil and all the miscellaneous items you need to get your gardening year off to a flying start. \nQuality stock at trade prices. \nHelp and information for novices and professionals. \nFor allotments\, gardens large and small\, balconies\, window  boxes and houseplants \nWith an emphasis on sustainability\, shared learning and enjoyment
URL:https://www.lambethhorticulturalsociety.org.uk/event/hut-open-5/
LOCATION:The Hut\, Cedar Tree Grove\, London\, SE27 0QE
CATEGORIES:Hut - Trading Shop
ORGANIZER;CN="Hut Team":MAILTO:hut@lambethhorticulturalsociety.org.uk
END:VEVENT
BEGIN:VEVENT
DTSTART;TZID=Europe/London:20260524T100000
DTEND;TZID=Europe/London:20260524T123000
DTSTAMP:20260422T113659
CREATED:20230509T205309Z
LAST-MODIFIED:20260312T120402Z
UID:1706-1779616800-1779625800@www.lambethhorticulturalsociety.org.uk
SUMMARY:Hut Open
DESCRIPTION:Stock up with tools\, seeds\, bulbs\, soil and all the miscellaneous items you need to get your gardening year off to a flying start. \nQuality stock at trade prices. \nHelp and information for novices and professionals. \nFor allotments\, gardens large and small\, balconies\, window  boxes and houseplants \nWith an emphasis on sustainability\, shared learning and enjoyment
URL:https://www.lambethhorticulturalsociety.org.uk/event/hut-open-6/
LOCATION:The Hut\, Cedar Tree Grove\, London\, SE27 0QE
CATEGORIES:Hut - Trading Shop
ORGANIZER;CN="Hut Team":MAILTO:hut@lambethhorticulturalsociety.org.uk
END:VEVENT
BEGIN:VEVENT
DTSTART;TZID=Europe/London:20260527T193000
DTEND;TZID=Europe/London:20260527T213000
DTSTAMP:20260422T113659
CREATED:20240417T191943Z
LAST-MODIFIED:20260401T210353Z
UID:2577-1779910200-1779917400@www.lambethhorticulturalsociety.org.uk
SUMMARY:Free Talk: Extreme Allotmenteering
DESCRIPTION:Speaker:  Alan Philip Clark\n\n“All through my life\, I’ve been something of a fanatic veggie grower – I still tend eight allotments – exhibit show specimens and attempt to grow giants – emphasis on ‘attempt!'”\n\nStarting in  early life\, Alan’s discovery of plants follows his life in amateur and professional gardening with many insights and tips on the art of exhibition growing.\n\nMy first adventures in a garden were undertaken while accompanied by Big Teddy – I have never lost the enquiring spirit of those first explorations – the smell of earth and the joys of digging! From those first forays observing the lives and deaths going on in suburban undergrowth – I progressed to professional training in Horticulture in the early 1960’s with connections to both Royal Botanic Gardens\, Kew and Royal Horticultural Society’s Wisley – picking up some old Skool farm experience on the way! My mid years saw me in various levels of the construction industry – literally – from tunnels and basements to topping out Canary Wharf. First Class Gardens was formed in 1996 to provide high value landscaping and maintenance to folk that could afford it!  SpeakerNet\n\n“Exactly the kind of Talk you’d expect from somebody with eight [allotments]!”\n\nThe Talk begins at 8pm. Doors open at 7.30pm.\n\nLight refreshments & raffle (cash only).\n\nEveryone is welcome at our free Talks. Suggested donation £5.
URL:https://www.lambethhorticulturalsociety.org.uk/event/free-talk-7/
LOCATION:The Old Library\, 14 - 15 Knight's Hill\, London\, SE27 0HY
CATEGORIES:Talk
ORGANIZER;CN="Secretary":MAILTO:admin@lambethhorticulturalsociety.org.uk
END:VEVENT
BEGIN:VEVENT
DTSTART;TZID=Europe/London:20260530T140000
DTEND;TZID=Europe/London:20260530T163000
DTSTAMP:20260422T113659
CREATED:20230509T205421Z
LAST-MODIFIED:20260312T120512Z
UID:1708-1780149600-1780158600@www.lambethhorticulturalsociety.org.uk
SUMMARY:Hut Open
DESCRIPTION:Stock up with tools\, seeds\, bulbs\, soil and all the miscellaneous items you need to get your gardening year off to a flying start. \nQuality stock at trade prices. \nHelp and information for novices and professionals. \nFor allotments\, gardens large and small\, balconies\, window  boxes and houseplants \nWith an emphasis on sustainability\, shared learning and enjoyment
URL:https://www.lambethhorticulturalsociety.org.uk/event/hut-open-7/
LOCATION:The Hut\, Cedar Tree Grove\, London\, SE27 0QE
CATEGORIES:Hut - Trading Shop
ORGANIZER;CN="Hut Team":MAILTO:hut@lambethhorticulturalsociety.org.uk
END:VEVENT
BEGIN:VEVENT
DTSTART;TZID=Europe/London:20260531T100000
DTEND;TZID=Europe/London:20260531T123000
DTSTAMP:20260422T113659
CREATED:20230509T205519Z
LAST-MODIFIED:20260312T120603Z
UID:1710-1780221600-1780230600@www.lambethhorticulturalsociety.org.uk
SUMMARY:Hut Open
DESCRIPTION:Stock up with tools\, seeds\, bulbs\, soil and all the miscellaneous items you need to get your gardening year off to a flying start. \nQuality stock at trade prices. \nHelp and information for novices and professionals. \nFor allotments\, gardens large and small\, balconies\, window  boxes and houseplants \nWith an emphasis on sustainability\, shared learning and enjoyment \n 
URL:https://www.lambethhorticulturalsociety.org.uk/event/hut-open-8/
LOCATION:The Hut\, Cedar Tree Grove\, London\, SE27 0QE
CATEGORIES:Hut - Trading Shop
ORGANIZER;CN="Hut Team":MAILTO:hut@lambethhorticulturalsociety.org.uk
END:VEVENT
END:VCALENDAR