BEGIN:VCALENDAR
VERSION:2.0
PRODID:-//Lambeth Horticultural Society - ECPv6.15.20//NONSGML v1.0//EN
CALSCALE:GREGORIAN
METHOD:PUBLISH
X-WR-CALNAME:Lambeth Horticultural Society
X-ORIGINAL-URL:https://www.lambethhorticulturalsociety.org.uk
X-WR-CALDESC:Events for Lambeth Horticultural Society
REFRESH-INTERVAL;VALUE=DURATION:PT1H
X-Robots-Tag:noindex
X-PUBLISHED-TTL:PT1H
BEGIN:VTIMEZONE
TZID:Europe/London
BEGIN:DAYLIGHT
TZOFFSETFROM:+0000
TZOFFSETTO:+0100
TZNAME:BST
DTSTART:20240331T010000
END:DAYLIGHT
BEGIN:STANDARD
TZOFFSETFROM:+0100
TZOFFSETTO:+0000
TZNAME:GMT
DTSTART:20241027T010000
END:STANDARD
BEGIN:DAYLIGHT
TZOFFSETFROM:+0000
TZOFFSETTO:+0100
TZNAME:BST
DTSTART:20250330T010000
END:DAYLIGHT
BEGIN:STANDARD
TZOFFSETFROM:+0100
TZOFFSETTO:+0000
TZNAME:GMT
DTSTART:20251026T010000
END:STANDARD
BEGIN:DAYLIGHT
TZOFFSETFROM:+0000
TZOFFSETTO:+0100
TZNAME:BST
DTSTART:20260329T010000
END:DAYLIGHT
BEGIN:STANDARD
TZOFFSETFROM:+0100
TZOFFSETTO:+0000
TZNAME:GMT
DTSTART:20261025T010000
END:STANDARD
END:VTIMEZONE
BEGIN:VEVENT
DTSTART;TZID=Europe/London:20251022T193000
DTEND;TZID=Europe/London:20251022T213000
DTSTAMP:20260422T194927
CREATED:20230509T210351Z
LAST-MODIFIED:20250814T183648Z
UID:1722-1761161400-1761168600@www.lambethhorticulturalsociety.org.uk
SUMMARY:Annual Prize Giving & NEW! LHS Gardeners' Question Time
DESCRIPTION:Are You Stumped?  Get on down to LHS GQT!\nCome along to the annual prize giving for the winners of the Late Summer Show. \nAfter the interval\, we’ll be running the first LHS Gardener’s Question Time where our panel of local experts will debate your questions and offer potential solutions to gardening problems and puzzles. \nThe event is free and open to all. \nGet your quesitons ready! \nDoors open 7.30. The event starts at 8pm.
URL:https://www.lambethhorticulturalsociety.org.uk/event/prize-giving-social-evening/
LOCATION:The Old Library\, 14 - 15 Knight's Hill\, London\, SE27 0HY
CATEGORIES:Prize Giving
ORGANIZER;CN="Secretary":MAILTO:admin@lambethhorticulturalsociety.org.uk
END:VEVENT
END:VCALENDAR