BEGIN:VCALENDAR
VERSION:2.0
PRODID:-//Lambeth Horticultural Society - ECPv6.15.20//NONSGML v1.0//EN
CALSCALE:GREGORIAN
METHOD:PUBLISH
X-ORIGINAL-URL:https://www.lambethhorticulturalsociety.org.uk
X-WR-CALDESC:Events for Lambeth Horticultural Society
REFRESH-INTERVAL;VALUE=DURATION:PT1H
X-Robots-Tag:noindex
X-PUBLISHED-TTL:PT1H
BEGIN:VTIMEZONE
TZID:Europe/London
BEGIN:DAYLIGHT
TZOFFSETFROM:+0000
TZOFFSETTO:+0100
TZNAME:BST
DTSTART:20230326T010000
END:DAYLIGHT
BEGIN:STANDARD
TZOFFSETFROM:+0100
TZOFFSETTO:+0000
TZNAME:GMT
DTSTART:20231029T010000
END:STANDARD
BEGIN:DAYLIGHT
TZOFFSETFROM:+0000
TZOFFSETTO:+0100
TZNAME:BST
DTSTART:20240331T010000
END:DAYLIGHT
BEGIN:STANDARD
TZOFFSETFROM:+0100
TZOFFSETTO:+0000
TZNAME:GMT
DTSTART:20241027T010000
END:STANDARD
BEGIN:DAYLIGHT
TZOFFSETFROM:+0000
TZOFFSETTO:+0100
TZNAME:BST
DTSTART:20250330T010000
END:DAYLIGHT
BEGIN:STANDARD
TZOFFSETFROM:+0100
TZOFFSETTO:+0000
TZNAME:GMT
DTSTART:20251026T010000
END:STANDARD
END:VTIMEZONE
BEGIN:VEVENT
DTSTART;TZID=Europe/London:20240714T120000
DTEND;TZID=Europe/London:20240714T160000
DTSTAMP:20260424T111520
CREATED:20240618T110748Z
LAST-MODIFIED:20240618T110748Z
UID:2784-1720958400-1720972800@www.lambethhorticulturalsociety.org.uk
SUMMARY:Gipsy Hill Village Fete
DESCRIPTION:We’ll be at Gypsy Hill Village Fete on 14 July `12 – 4 pm. Come along to say hello\, get supplies from the pop up Hut\,and maybe join us if you’re not a member. Long Meadow\, between Gipsy Hill and Dulwich Wood Avenue (SE19 1QR). \nAs ever\, lots of exciting activities are being planned for the day\, including live music\, traditional games\, dog show\, food and refreshments. There is also a marquee for community groups where you’ll find us. \nThe last event attracted about 3000 people. Friends of Gipsy Hill is a community group\, run by volunteers who involve local people and to use local spaces for community wellbeing. The Friends organise a wide range of local events and activities. They aim to make green space accessible and usable for everyone to enjoy.
URL:https://www.lambethhorticulturalsociety.org.uk/event/gipsy-hill-village-fete/
LOCATION:London
CATEGORIES:pop up Hut
END:VEVENT
END:VCALENDAR