BEGIN:VCALENDAR
VERSION:2.0
PRODID:-//Lambeth Horticultural Society - ECPv6.15.20//NONSGML v1.0//EN
CALSCALE:GREGORIAN
METHOD:PUBLISH
X-ORIGINAL-URL:https://www.lambethhorticulturalsociety.org.uk
X-WR-CALDESC:Events for Lambeth Horticultural Society
REFRESH-INTERVAL;VALUE=DURATION:PT1H
X-Robots-Tag:noindex
X-PUBLISHED-TTL:PT1H
BEGIN:VTIMEZONE
TZID:Europe/London
BEGIN:DAYLIGHT
TZOFFSETFROM:+0000
TZOFFSETTO:+0100
TZNAME:BST
DTSTART:20240331T010000
END:DAYLIGHT
BEGIN:STANDARD
TZOFFSETFROM:+0100
TZOFFSETTO:+0000
TZNAME:GMT
DTSTART:20241027T010000
END:STANDARD
BEGIN:DAYLIGHT
TZOFFSETFROM:+0000
TZOFFSETTO:+0100
TZNAME:BST
DTSTART:20250330T010000
END:DAYLIGHT
BEGIN:STANDARD
TZOFFSETFROM:+0100
TZOFFSETTO:+0000
TZNAME:GMT
DTSTART:20251026T010000
END:STANDARD
BEGIN:DAYLIGHT
TZOFFSETFROM:+0000
TZOFFSETTO:+0100
TZNAME:BST
DTSTART:20260329T010000
END:DAYLIGHT
BEGIN:STANDARD
TZOFFSETFROM:+0100
TZOFFSETTO:+0000
TZNAME:GMT
DTSTART:20261025T010000
END:STANDARD
END:VTIMEZONE
BEGIN:VEVENT
DTSTART;TZID=Europe/London:20251005T110000
DTEND;TZID=Europe/London:20251005T160000
DTSTAMP:20260423T115210
CREATED:20240808T190440Z
LAST-MODIFIED:20250828T192723Z
UID:3080-1759662000-1759680000@www.lambethhorticulturalsociety.org.uk
SUMMARY:Roots & Shoots Goes Wild
DESCRIPTION:  \n  \nVisit our pop up Hut at Roots and Shoots for this wonderful annual Autumn community event. \nFind out more about the LHS Wildlife Gardening Group. \n 
URL:https://www.lambethhorticulturalsociety.org.uk/event/roots-shoots-goes-wild/
LOCATION:Roots & Shoots\, Walnut Tree Walk\, London\, SE11 6DN
CATEGORIES:pop up Hut
ORGANIZER;CN="Hut Team":MAILTO:hut@lambethhorticulturalsociety.org.uk
END:VEVENT
END:VCALENDAR