BEGIN:VCALENDAR
VERSION:2.0
PRODID:-//Lambeth Horticultural Society - ECPv6.15.20//NONSGML v1.0//EN
CALSCALE:GREGORIAN
METHOD:PUBLISH
X-ORIGINAL-URL:https://www.lambethhorticulturalsociety.org.uk
X-WR-CALDESC:Events for Lambeth Horticultural Society
REFRESH-INTERVAL;VALUE=DURATION:PT1H
X-Robots-Tag:noindex
X-PUBLISHED-TTL:PT1H
BEGIN:VTIMEZONE
TZID:Europe/London
BEGIN:DAYLIGHT
TZOFFSETFROM:+0000
TZOFFSETTO:+0100
TZNAME:BST
DTSTART:20250330T010000
END:DAYLIGHT
BEGIN:STANDARD
TZOFFSETFROM:+0100
TZOFFSETTO:+0000
TZNAME:GMT
DTSTART:20251026T010000
END:STANDARD
BEGIN:DAYLIGHT
TZOFFSETFROM:+0000
TZOFFSETTO:+0100
TZNAME:BST
DTSTART:20260329T010000
END:DAYLIGHT
BEGIN:STANDARD
TZOFFSETFROM:+0100
TZOFFSETTO:+0000
TZNAME:GMT
DTSTART:20261025T010000
END:STANDARD
BEGIN:DAYLIGHT
TZOFFSETFROM:+0000
TZOFFSETTO:+0100
TZNAME:BST
DTSTART:20270328T010000
END:DAYLIGHT
BEGIN:STANDARD
TZOFFSETFROM:+0100
TZOFFSETTO:+0000
TZNAME:GMT
DTSTART:20271031T010000
END:STANDARD
END:VTIMEZONE
BEGIN:VEVENT
DTSTART;TZID=Europe/London:20260606T120000
DTEND;TZID=Europe/London:20260606T170000
DTSTAMP:20260422T130143
CREATED:20240317T213217Z
LAST-MODIFIED:20260329T171436Z
UID:2404-1780747200-1780765200@www.lambethhorticulturalsociety.org.uk
SUMMARY:Borde Hill Garden - LHS Outing
DESCRIPTION:Borde Hill Gardens\nSaturday 6 June 2026 Borde Hill Lane\, Haywards Heath:  \nExact Timings & Price TBC \nA Sussex estate rooted in botanical heritage. \n“Set within 383 acres of heritage listed Parkland\, our paradise for plants in the heart of Sussex captivates and delights visitors with a series of intimate living ‘Garden rooms’. Beyond the formal Garden\, visitors can explore our historic Woodland\, the South Park with tranquil lakes\, and enjoy outstanding views across the Sussex High Weald. \nHowever you want to immerse yourself in nature\, there’s no better place to do it than surrounded by the beauty and tranquility of Borde Hill.” \nBook online via Eventbrite (incurs a booking fee) or in person at the Hut. \nFor further information\, contantact Outings. \nPlease note\, you must be an LHS member to book.
URL:https://www.lambethhorticulturalsociety.org.uk/event/goddards-green-garden-lhs-outing/
CATEGORIES:Members,Outings
ORGANIZER;CN="Outings":MAILTO:outings@lambethhorticulturalsociety.org.uk
END:VEVENT
BEGIN:VEVENT
DTSTART;TZID=Europe/London:20260711T100000
DTEND;TZID=Europe/London:20260711T170000
DTSTAMP:20260422T130143
CREATED:20240317T103033Z
LAST-MODIFIED:20260329T172707Z
UID:2410-1783764000-1783789200@www.lambethhorticulturalsociety.org.uk
SUMMARY:Sissinghurst Castle Garden NT - LHS Outing
DESCRIPTION:Sissinghurst\nSaturday 11 July\, Biddenden Road\, near Cranbrook\, Kent\, TN17 2AB  \nExact Timings & Price TBC \nA world-renowned\, romantic C20 garden in Kent\, former home to Vita Sackville-West and Harold Nicholson. \nBook online via Eventbrite (incurs a booking fee) or in person at the Hut. \nFor further information\, contantact Outings. \nPlease note\, you must be an LHS member to book.
URL:https://www.lambethhorticulturalsociety.org.uk/event/peckover-house-garden-lhs-outing/
CATEGORIES:Members,Outings
ORGANIZER;CN="Outings":MAILTO:outings@lambethhorticulturalsociety.org.uk
END:VEVENT
BEGIN:VEVENT
DTSTART;TZID=Europe/London:20260919T100000
DTEND;TZID=Europe/London:20260919T170000
DTSTAMP:20260422T130143
CREATED:20240317T102918Z
LAST-MODIFIED:20260329T165121Z
UID:2423-1789812000-1789837200@www.lambethhorticulturalsociety.org.uk
SUMMARY:Pashley Manor Gardens - LHS Outing
DESCRIPTION:Pashley Manor Gardens\nA stunning\, award winnning 11 acre garxen on the border of Sussex and Kent. \nWith cafe\, sculupture and art exhibitions and gift shop. \nPrices to be announced. \nFor further information\, contantact Outings
URL:https://www.lambethhorticulturalsociety.org.uk/event/leonardslee-lakes-gardens-lhs-outing/
CATEGORIES:Members,Outings
ORGANIZER;CN="Outings":MAILTO:outings@lambethhorticulturalsociety.org.uk
END:VEVENT
END:VCALENDAR