BEGIN:VCALENDAR
VERSION:2.0
PRODID:-//Lambeth Horticultural Society - ECPv6.15.20//NONSGML v1.0//EN
CALSCALE:GREGORIAN
METHOD:PUBLISH
X-WR-CALNAME:Lambeth Horticultural Society
X-ORIGINAL-URL:https://www.lambethhorticulturalsociety.org.uk
X-WR-CALDESC:Events for Lambeth Horticultural Society
REFRESH-INTERVAL;VALUE=DURATION:PT1H
X-Robots-Tag:noindex
X-PUBLISHED-TTL:PT1H
BEGIN:VTIMEZONE
TZID:Europe/London
BEGIN:DAYLIGHT
TZOFFSETFROM:+0000
TZOFFSETTO:+0100
TZNAME:BST
DTSTART:20250330T010000
END:DAYLIGHT
BEGIN:STANDARD
TZOFFSETFROM:+0100
TZOFFSETTO:+0000
TZNAME:GMT
DTSTART:20251026T010000
END:STANDARD
BEGIN:DAYLIGHT
TZOFFSETFROM:+0000
TZOFFSETTO:+0100
TZNAME:BST
DTSTART:20260329T010000
END:DAYLIGHT
BEGIN:STANDARD
TZOFFSETFROM:+0100
TZOFFSETTO:+0000
TZNAME:GMT
DTSTART:20261025T010000
END:STANDARD
BEGIN:DAYLIGHT
TZOFFSETFROM:+0000
TZOFFSETTO:+0100
TZNAME:BST
DTSTART:20270328T010000
END:DAYLIGHT
BEGIN:STANDARD
TZOFFSETFROM:+0100
TZOFFSETTO:+0000
TZNAME:GMT
DTSTART:20271031T010000
END:STANDARD
END:VTIMEZONE
BEGIN:VEVENT
DTSTART;TZID=Europe/London:20260325T193000
DTEND;TZID=Europe/London:20260325T213000
DTSTAMP:20260422T155632
CREATED:20240228T120836Z
LAST-MODIFIED:20260317T200347Z
UID:2346-1774467000-1774474200@www.lambethhorticulturalsociety.org.uk
SUMMARY:AGM & Social Evening
DESCRIPTION:  \n  \nCome along to find out everything we achieved in 2025\, what we plan for 2026 and how you can help. \nEveryone is welcome and the event is free to attend. \nWine & nibbles\, Seed Swap and presentations from members. \nMinutes AGM 2025 \nreport on 2025 activities \n  \nAgenda\n\nApologies for absence\nWelcome from the Chair\nMinutes of the 2025 AGM\nSecretary’s Report \nTreasurer’s Report\nUpdate on Hut lease\nElection of officers\n\nVacant Posts\n\nChair\nSecretary\nMembership Secretary\nHealth & Safety Officer\n\nFULL DETAILS
URL:https://www.lambethhorticulturalsociety.org.uk/event/agm-social-evening/
LOCATION:The Old Library\, 14 - 15 Knight's Hill\, London\, SE27 0HY
CATEGORIES:Members
ORGANIZER;CN="Outings":MAILTO:outings@lambethhorticulturalsociety.org.uk
END:VEVENT
END:VCALENDAR