BEGIN:VCALENDAR
VERSION:2.0
PRODID:-//Lambeth Horticultural Society - ECPv6.15.20//NONSGML v1.0//EN
CALSCALE:GREGORIAN
METHOD:PUBLISH
X-ORIGINAL-URL:https://www.lambethhorticulturalsociety.org.uk
X-WR-CALDESC:Events for Lambeth Horticultural Society
REFRESH-INTERVAL;VALUE=DURATION:PT1H
X-Robots-Tag:noindex
X-PUBLISHED-TTL:PT1H
BEGIN:VTIMEZONE
TZID:Europe/London
BEGIN:DAYLIGHT
TZOFFSETFROM:+0000
TZOFFSETTO:+0100
TZNAME:BST
DTSTART:20250330T010000
END:DAYLIGHT
BEGIN:STANDARD
TZOFFSETFROM:+0100
TZOFFSETTO:+0000
TZNAME:GMT
DTSTART:20251026T010000
END:STANDARD
BEGIN:DAYLIGHT
TZOFFSETFROM:+0000
TZOFFSETTO:+0100
TZNAME:BST
DTSTART:20260329T010000
END:DAYLIGHT
BEGIN:STANDARD
TZOFFSETFROM:+0100
TZOFFSETTO:+0000
TZNAME:GMT
DTSTART:20261025T010000
END:STANDARD
BEGIN:DAYLIGHT
TZOFFSETFROM:+0000
TZOFFSETTO:+0100
TZNAME:BST
DTSTART:20270328T010000
END:DAYLIGHT
BEGIN:STANDARD
TZOFFSETFROM:+0100
TZOFFSETTO:+0000
TZNAME:GMT
DTSTART:20271031T010000
END:STANDARD
END:VTIMEZONE
BEGIN:VEVENT
DTSTART;TZID=Europe/London:20260905T140000
DTEND;TZID=Europe/London:20260905T170000
DTSTAMP:20260424T204239
CREATED:20230509T210446Z
LAST-MODIFIED:20251228T215415Z
UID:1724-1788616800-1788627600@www.lambethhorticulturalsociety.org.uk
SUMMARY:Late Summer Show 2026 (Hut Closed)
DESCRIPTION:Proud of your plants? Are your blooms a cut above the rest? Are your cacti on point?\nCalling all gardeners\, bakers\, marmalade makers\, creatives and photographers. Our 2026 Late Summer Show takes place on Saturday 5 September at St Luke’s Church\, West Norwood and there are a lot of prizes to be won. \n\nEveryone is welcome – entry to our shows is open to non members as well as members. \nPhotos from previous Late Summer shows. \n\nThe Hut is closed on Show days.
URL:https://www.lambethhorticulturalsociety.org.uk/event/late-summer-show/
LOCATION:St Luke’s Church\, 4A Hannen Road\, London\, London\, SE27 0DT\, United Kingdom
CATEGORIES:Flower Show
ORGANIZER;CN="Show Secretary":MAILTO:showsecretary@lambethhorticulturalsociety.org.uk
END:VEVENT
END:VCALENDAR